BEGIN:VCALENDAR
VERSION:2.0
PRODID:-//ChamberMaster//Event Calendar 2.0//EN
METHOD:PUBLISH
X-PUBLISHED-TTL:P3D
REFRESH-INTERVAL:P3D
CALSCALE:GREGORIAN
BEGIN:VEVENT
DTSTART:20090523T160000Z
DTEND:20090523T220000Z
X-MICROSOFT-CDO-ALLDAYEVENT:FALSE
SUMMARY:Event at Ham and Jam Creations
DESCRIPTION:Live Mannequin Day\, pose in our window as a mannequin.
X-ALT-DESC;FMTTYPE=text/html:Live Mannequin Day\, pose in our window as a mannequin. 
LOCATION:
UID:e.363.2718
SEQUENCE:3
DTSTAMP:20260425T234002Z
URL:https://barrowcm.365dtm.com/events/details/event-at-ham-and-jam-creations-05-23-2009-2718
END:VEVENT

END:VCALENDAR
