BEGIN:VCALENDAR
VERSION:2.0
PRODID:-//ChamberMaster//Event Calendar 2.0//EN
METHOD:PUBLISH
X-PUBLISHED-TTL:P3D
REFRESH-INTERVAL:P3D
CALSCALE:GREGORIAN
BEGIN:VEVENT
DTSTART:20120421T130000Z
DTEND:20120422T020000Z
X-MICROSOFT-CDO-ALLDAYEVENT:FALSE
SUMMARY:Event at Lions Club Field - GUNS~N~HOSES
DESCRIPTION:1st Annual GUNS~N~HOSES Softball Game - Local Law Enforcement ~vs~ Local Fire & Emergency Service!   Plenty of Family Fun which includes Tug of War\, Test your athletic Abilities at the Skills Challenge\, Homerun Derby\, Timed Base Run & Pitching Speed from the mound.  Vendors for refreshments\, Lots of carnival type concessions for the children at reasonable rates. \n\n\n\nEntertainment in the evening by:\n\nKimberly Clark\, Chris Little\, Future Wrestler Federation!   Come and join the fun!\n\n"No Coolers allowed"
X-ALT-DESC;FMTTYPE=text/html:1st Annual GUNS~N~HOSES Softball Game - Local Law Enforcement ~vs~ Local Fire &amp\; Emergency Service!&nbsp\;&nbsp\; Plenty of Family Fun which includes Tug of War\, Test your athletic Abilities at the Skills Challenge\, Homerun Derby\, Timed Base Run &amp\; Pitching Speed from the mound.&nbsp\; Vendors for refreshments\, Lots of carnival type concessions for the children at reasonable rates.&nbsp\;<br />\n<br />\nEntertainment in the evening by:<br />\nKimberly Clark\, Chris Little\, Future Wrestler Federation!&nbsp\;&nbsp\; Come and join the fun!<br />\n&quot\;No Coolers allowed&quot\;&nbsp\;&nbsp\;
LOCATION:Lions Club & Winder Dixie Youth Baseball Field 354 East Broad Street\, Winder\, GA 30680
UID:e.363.4249
SEQUENCE:3
DTSTAMP:20260423T195057Z
URL:https://barrowcm.365dtm.com/events/details/event-at-lions-club-field-guns-n-hoses-04-21-2012-4249
END:VEVENT

END:VCALENDAR
