BEGIN:VCALENDAR
VERSION:2.0
PRODID:-//ChamberMaster//Event Calendar 2.0//EN
METHOD:PUBLISH
X-PUBLISHED-TTL:P3D
REFRESH-INTERVAL:P3D
CALSCALE:GREGORIAN
BEGIN:VEVENT
DTSTART:20101209T170000Z
DTEND:20101209T210000Z
X-MICROSOFT-CDO-ALLDAYEVENT:FALSE
SUMMARY:Event at Magnolia Estates Retirement Center
DESCRIPTION:Magnolia Estates is having a Christmas party for the residents and their families. Santa will be making a visit.
X-ALT-DESC;FMTTYPE=text/html:Magnolia Estates is having a Christmas party for the residents and their families. Santa will be making a visit. 
LOCATION:624 Gainesville Highway Winder Ga. 30680
UID:e.363.3653
SEQUENCE:3
DTSTAMP:20260424T182713Z
URL:https://barrowcm.365dtm.com/events/details/event-at-magnolia-estates-retirement-center-12-09-2010-3653
END:VEVENT

END:VCALENDAR
