BEGIN:VCALENDAR
VERSION:2.0
PRODID:-//ChamberMaster//Event Calendar 2.0//EN
METHOD:PUBLISH
X-PUBLISHED-TTL:P3D
REFRESH-INTERVAL:P3D
CALSCALE:GREGORIAN
BEGIN:VEVENT
DTSTART:20111008T120000Z
DTEND:20111008T200000Z
X-MICROSOFT-CDO-ALLDAYEVENT:FALSE
SUMMARY:Event at Town of Bethlehem
DESCRIPTION:The annual Star Festival features arts\, crafts\, music\, food and a free supervised Kidzone where parents can let their kids play while browsing the festival grounds. Held from 8 a.m. - 4 p.m. the Star Festival is set up around the Town Square which is off Hwy. 11 at the blinking light (soon to be a redlight). The Star Festival is held the second Saturday of October\, which this year\, is Oct. 8.
X-ALT-DESC;FMTTYPE=text/html:The annual Star Festival features arts\, crafts\, music\, food and a free supervised Kidzone where parents can let their kids play while browsing the festival grounds. Held from 8 a.m. - 4 p.m. the Star Festival is set up around the Town Square which is off Hwy. 11 at the blinking light (soon to be a redlight). The Star Festival is held the second Saturday of October\, which this year\, is Oct. 8.
LOCATION:Bethlehem\, Ga.
UID:e.363.4071
SEQUENCE:3
DTSTAMP:20260424T040300Z
URL:https://barrowcm.365dtm.com/events/details/event-at-town-of-bethlehem-10-08-2011-4071
END:VEVENT

END:VCALENDAR
