BEGIN:VCALENDAR
VERSION:2.0
PRODID:-//ChamberMaster//Event Calendar 2.0//EN
METHOD:PUBLISH
X-PUBLISHED-TTL:P3D
REFRESH-INTERVAL:P3D
CALSCALE:GREGORIAN
BEGIN:VEVENT
DTSTART:20120111T233000Z
DTEND:20120112T030000Z
X-MICROSOFT-CDO-ALLDAYEVENT:FALSE
SUMMARY:Exclusive V.I.P. Night -Gateway Cinemas 12
DESCRIPTION:Gateway Cinemas 12 - VIP night
X-ALT-DESC;FMTTYPE=text/html:Gateway Cinemas 12 - VIP night<br />\n
LOCATION:416 Exchange Blvd.\, Bethlehem\, Ga
UID:e.363.4155
SEQUENCE:3
DTSTAMP:20260423T235619Z
URL:https://barrowcm.365dtm.com/events/details/exclusive-v-i-p-night-gateway-cinemas-12-01-11-2012-4155
END:VEVENT

END:VCALENDAR
