BEGIN:VCALENDAR
VERSION:2.0
PRODID:-//ChamberMaster//Event Calendar 2.0//EN
METHOD:PUBLISH
X-PUBLISHED-TTL:P3D
REFRESH-INTERVAL:P3D
CALSCALE:GREGORIAN
BEGIN:VEVENT
DTSTART:20090325T200000Z
DTEND:20090325T210000Z
X-MICROSOFT-CDO-ALLDAYEVENT:FALSE
SUMMARY:Executive Board Meeting
DESCRIPTION:
X-ALT-DESC;FMTTYPE=text/html:
LOCATION:Chamber
UID:e.363.2680
SEQUENCE:3
DTSTAMP:20260426T024151Z
URL:https://barrowcm.365dtm.com/events/details/executive-board-meeting-03-25-2009-2680
END:VEVENT

END:VCALENDAR
