BEGIN:VCALENDAR
VERSION:2.0
PRODID:-//ChamberMaster//Event Calendar 2.0//EN
METHOD:PUBLISH
X-PUBLISHED-TTL:P3D
REFRESH-INTERVAL:P3D
CALSCALE:GREGORIAN
BEGIN:VEVENT
DTSTART:20110826T213000Z
DTEND:20110826T233000Z
X-MICROSOFT-CDO-ALLDAYEVENT:FALSE
SUMMARY:Expo BAH
DESCRIPTION:EXPO Business after Hours\n\n	Sponsored by Georgia Power
X-ALT-DESC;FMTTYPE=text/html:<p>\n	EXPO Business after Hours</p>\n<p>\n	Sponsored by Georgia Power</p>\n
LOCATION:Barrow County Park and Rec. Dept.
UID:e.363.4040
SEQUENCE:3
DTSTAMP:20260424T064605Z
URL:https://barrowcm.365dtm.com/events/details/expo-bah-08-26-2011-4040
END:VEVENT

END:VCALENDAR
