BEGIN:VCALENDAR
VERSION:2.0
PRODID:-//ChamberMaster//Event Calendar 2.0//EN
METHOD:PUBLISH
X-PUBLISHED-TTL:P3D
REFRESH-INTERVAL:P3D
CALSCALE:GREGORIAN
BEGIN:VEVENT
DTSTART:20110827T140000Z
DTEND:20110827T190000Z
X-MICROSOFT-CDO-ALLDAYEVENT:FALSE
SUMMARY:EXPO - Barrow County
DESCRIPTION:Barrow County EXPO
X-ALT-DESC;FMTTYPE=text/html:Barrow County EXPO
LOCATION:
UID:e.363.3677
SEQUENCE:3
DTSTAMP:20260424T064532Z
URL:https://barrowcm.365dtm.com/events/details/expo-barrow-county-08-27-2011-3677
END:VEVENT

END:VCALENDAR
