BEGIN:VCALENDAR
VERSION:2.0
PRODID:-//ChamberMaster//Event Calendar 2.0//EN
METHOD:PUBLISH
X-PUBLISHED-TTL:P3D
REFRESH-INTERVAL:P3D
CALSCALE:GREGORIAN
BEGIN:VEVENT
DTSTART:20130320T160000Z
DTEND:20130320T200000Z
X-MICROSOFT-CDO-ALLDAYEVENT:FALSE
SUMMARY:Express Employment Professionals Job Fair
DESCRIPTION:Express Employment Professionals\n\nJob Fair
X-ALT-DESC;FMTTYPE=text/html:<strong><span style="color:navy\;"><span style="font-family:arial\,sans-serif\;"><span style="font-size:12.0pt\;">Express Employment Professionals<br />\nJob Fair</span></span></span></strong>
LOCATION:Chamber Office
UID:e.363.4843
SEQUENCE:3
DTSTAMP:20260423T024224Z
URL:https://barrowcm.365dtm.com/events/details/express-employment-professionals-job-fair-03-20-2013-4843
END:VEVENT

END:VCALENDAR
