BEGIN:VCALENDAR
VERSION:2.0
PRODID:-//ChamberMaster//Event Calendar 2.0//EN
METHOD:PUBLISH
X-PUBLISHED-TTL:P3D
REFRESH-INTERVAL:P3D
CALSCALE:GREGORIAN
BEGIN:VEVENT
DTSTART:20090520T190000Z
DTEND:20090520T200000Z
X-MICROSOFT-CDO-ALLDAYEVENT:FALSE
SUMMARY:Farewell & Good Luck to Joe Clancy
DESCRIPTION:Join us to say "Farewell & Good Luck"  to Joe Clancy
X-ALT-DESC;FMTTYPE=text/html:Join us to say "Farewell & Good Luck"  to Joe Clancy
LOCATION:Barrow Regional Medical Center 3rd Floor MOB Cenference Room
UID:e.363.2717
SEQUENCE:3
DTSTAMP:20260425T234332Z
URL:https://barrowcm.365dtm.com/events/details/farewell-good-luck-to-joe-clancy-05-20-2009-2717
END:VEVENT

END:VCALENDAR
