BEGIN:VCALENDAR
VERSION:2.0
PRODID:-//ChamberMaster//Event Calendar 2.0//EN
METHOD:PUBLISH
X-PUBLISHED-TTL:P3D
REFRESH-INTERVAL:P3D
CALSCALE:GREGORIAN
BEGIN:VEVENT
DTSTART:20090531T220000Z
DTEND:20090601T000000Z
X-MICROSOFT-CDO-ALLDAYEVENT:FALSE
SUMMARY:First Baptist Winder Music Minsitry
DESCRIPTION:The Music Minsitry of First Baptist Church WinderA Patriotic MusicalThe musical tribute is being performed in honor and memory of all those who serve or have served in the United States Military. The entire community is invited to come and share in this memorable celebration.
X-ALT-DESC;FMTTYPE=text/html:<div>The Music Minsitry of First Baptist Church Winder</div><div>A Patriotic Musical</div><div>The musical tribute is being performed in honor and memory of all those who serve or have served in the United States Military. The entire community is invited to come and share in this memorable celebration.</div>
LOCATION:First Baptist\, Winder625 Jefferson Hwy.Winder
UID:e.363.2719
SEQUENCE:3
DTSTAMP:20260425T234039Z
URL:https://barrowcm.365dtm.com/events/details/first-baptist-winder-music-minsitry-05-31-2009-2719
END:VEVENT

END:VCALENDAR
