BEGIN:VCALENDAR
VERSION:2.0
PRODID:-//ChamberMaster//Event Calendar 2.0//EN
METHOD:PUBLISH
X-PUBLISHED-TTL:P3D
REFRESH-INTERVAL:P3D
CALSCALE:GREGORIAN
BEGIN:VEVENT
DTSTART:20120306T164500Z
DTEND:20120306T180000Z
X-MICROSOFT-CDO-ALLDAYEVENT:FALSE
SUMMARY:First Tueday Membership Meeting
DESCRIPTION:First Tuesday Membership Meeting
X-ALT-DESC;FMTTYPE=text/html:First Tuesday Membership Meeting<br />\n
LOCATION:Barrow County Park and Rec. Dept 175 Second Street
UID:e.363.4220
SEQUENCE:3
DTSTAMP:20260423T211758Z
URL:https://barrowcm.365dtm.com/events/details/first-tueday-membership-meeting-03-06-2012-4220
END:VEVENT

END:VCALENDAR
