BEGIN:VCALENDAR
VERSION:2.0
PRODID:-//ChamberMaster//Event Calendar 2.0//EN
METHOD:PUBLISH
X-PUBLISHED-TTL:P3D
REFRESH-INTERVAL:P3D
CALSCALE:GREGORIAN
BEGIN:VEVENT
DTSTART:20090505T114500Z
DTEND:20090505T114500Z
X-MICROSOFT-CDO-ALLDAYEVENT:FALSE
SUMMARY:First Tuesday Membership Breakfast
DESCRIPTION:Guest Speaker is Mr. Phil Foil\, head of the Georgia Environmental Facilities Authority\,\nwill be our speaker for our May breakfast.  GEFA is a state agency that administers a\nwide variety of programs that provide financial assistance and other support services\nto improve Gerogia's environment.  GEFA's program focus areas\n are water\, wastewater\, solid waste\, recycling\,land conservation\, energy efficiency and fuel storage tanks for local governments\, other state agencies and non-profit organizations
X-ALT-DESC;FMTTYPE=text/html:Guest Speaker is Mr. Phil Foil\, head of the Georgia Environmental Facilities Authority\,\nwill be our speaker for our May breakfast.  GEFA is a state agency that administers a\nwide variety of programs that provide financial assistance and other support services\nto improve Gerogia's environment.  GEFA's program focus areas\n are water\, wastewater\, solid waste\, recycling\,land conservation\, energy efficiency and fuel storage tanks for local governments\, other state agencies and non-profit organizations
LOCATION:Leisure Services 175 Second Street\, Winder
UID:e.363.2699
SEQUENCE:3
DTSTAMP:20260425T233904Z
URL:https://barrowcm.365dtm.com/events/details/first-tuesday-membership-breakfast-05-05-2009-2699
END:VEVENT

END:VCALENDAR
