BEGIN:VCALENDAR
VERSION:2.0
PRODID:-//ChamberMaster//Event Calendar 2.0//EN
METHOD:PUBLISH
X-PUBLISHED-TTL:P3D
REFRESH-INTERVAL:P3D
CALSCALE:GREGORIAN
BEGIN:VEVENT
DTSTART:20140204T164500Z
DTEND:20140204T180000Z
X-MICROSOFT-CDO-ALLDAYEVENT:FALSE
SUMMARY:First Tuesday Membership Meeting
DESCRIPTION:First Tuesday Membership Meeting With Non-Profits having Exhibits
X-ALT-DESC;FMTTYPE=text/html:First Tuesday Membership Meeting With Non-Profits having Exhibits
LOCATION:River Hills Church (previous England Homeport location)
UID:e.363.5374
SEQUENCE:3
DTSTAMP:20260422T062122Z
URL:https://barrowcm.365dtm.com/events/details/first-tuesday-membership-meeting-02-04-2014-5374
END:VEVENT

END:VCALENDAR
