BEGIN:VCALENDAR
VERSION:2.0
PRODID:-//ChamberMaster//Event Calendar 2.0//EN
METHOD:PUBLISH
X-PUBLISHED-TTL:P3D
REFRESH-INTERVAL:P3D
CALSCALE:GREGORIAN
BEGIN:VEVENT
DTSTART:20110301T164500Z
DTEND:20110301T180000Z
X-MICROSOFT-CDO-ALLDAYEVENT:FALSE
SUMMARY:First Tuesday Membership Meeting
DESCRIPTION:Sponsord by:  Innovative Adminsitrative Services\n\n\n\nState of the Chamber Address
X-ALT-DESC;FMTTYPE=text/html:Sponsord by:&nbsp\; Innovative Adminsitrative Services<br />\n<br />\nState of the Chamber Address
LOCATION:Barrow County Park and Rec. Department 175\, Second Street\, Winder
UID:e.363.3684
SEQUENCE:3
DTSTAMP:20260424T134438Z
URL:https://barrowcm.365dtm.com/events/details/first-tuesday-membership-meeting-03-01-2011-3684
END:VEVENT

END:VCALENDAR
