BEGIN:VCALENDAR
VERSION:2.0
PRODID:-//ChamberMaster//Event Calendar 2.0//EN
METHOD:PUBLISH
X-PUBLISHED-TTL:P3D
REFRESH-INTERVAL:P3D
CALSCALE:GREGORIAN
BEGIN:VEVENT
DTSTART:20160301T164500Z
DTEND:20160301T180000Z
X-MICROSOFT-CDO-ALLDAYEVENT:FALSE
SUMMARY:First Tuesday Membership Meeting
DESCRIPTION:First Tuesday Membership Meeting\n\nGeorgia Power Sponsor - State of Education -Chris McMichael
X-ALT-DESC;FMTTYPE=text/html:First Tuesday Membership Meeting<br />\nGeorgia Power Sponsor - State of Education -Chris McMichael
LOCATION:Barrow County Leisure Services 175 Second Street\, Winder
UID:e.363.5858
SEQUENCE:3
DTSTAMP:20260420T160308Z
URL:https://barrowcm.365dtm.com/events/details/first-tuesday-membership-meeting-03-01-2016-5858
END:VEVENT

END:VCALENDAR
