BEGIN:VCALENDAR
VERSION:2.0
PRODID:-//ChamberMaster//Event Calendar 2.0//EN
METHOD:PUBLISH
X-PUBLISHED-TTL:P3D
REFRESH-INTERVAL:P3D
CALSCALE:GREGORIAN
BEGIN:VEVENT
DTSTART;VALUE=DATE:20130305
DTEND;VALUE=DATE:20130306
TRANSP:TRANSPARENT
X-MICROSOFT-CDO-ALLDAYEVENT:TRUE
SUMMARY:First Tuesday Membership Meeting
DESCRIPTION:First Tuesday Membership Meeting\n\n	Speaker:  Matt Thompson\n\n	Testing & Data Specialist with Barrow County School System
X-ALT-DESC;FMTTYPE=text/html:<p>\n	First Tuesday Membership Meeting<br />\n	Speaker:&nbsp\; Matt Thompson</p>\n<p>\n	Testing &amp\; Data Specialist with Barrow County School System</p>\n
LOCATION:Barrow County Park and Rec. Department
UID:e.363.4821
SEQUENCE:3
DTSTAMP:20260423T022856Z
URL:https://barrowcm.365dtm.com/events/details/first-tuesday-membership-meeting-03-05-2013-4821
END:VEVENT

END:VCALENDAR
