BEGIN:VCALENDAR
VERSION:2.0
PRODID:-//ChamberMaster//Event Calendar 2.0//EN
METHOD:PUBLISH
X-PUBLISHED-TTL:P3D
REFRESH-INTERVAL:P3D
CALSCALE:GREGORIAN
BEGIN:VEVENT
DTSTART:20130402T154500Z
DTEND:20130402T170000Z
X-MICROSOFT-CDO-ALLDAYEVENT:FALSE
SUMMARY:First Tuesday Membership Meeting
DESCRIPTION:Sponsor - Republic Service\n\nSpeaker: Tim Echols is Chairman of the Georgia Public Service Commission. He was elected to the Commission in the general election of November 2010 after spending 15 years in the non-profit sector. Echols founded "TeenPact" and grew the mock legislative youth program to 38 states in his tenure. He continues to serve on the Board of Directors. \n\n \n\nTim's campaign focused on consumer protection\, clean energy\, and accountability. He travels the state speaking to students\, civic groups and businesses about the importance of the PSC's responsibilities especially providing accountability to those the agency regulates.
X-ALT-DESC;FMTTYPE=text/html:Sponsor - Republic Service<br />\nSpeaker: <span style="font-family:arial\,sans-serif\;"><span style="font-size:14.0pt\;">Tim Echols is Chairman of the Georgia Public Service Commission. He was elected to the Commission in the general election of November 2010 after spending 15 years in the non-profit sector. Echols founded &quot\;TeenPact&quot\; and grew the mock legislative youth program to 38 states in his tenure. He continues to serve on the Board of Directors. </span></span><br />\n&nbsp\;<br />\n<span style="font-family:arial\,sans-serif\;"><span style="font-size:14.0pt\;">Tim&#39\;s campaign focused on consumer protection\, clean energy\, and accountability. He travels the state speaking to students\, civic groups and businesses about the importance of the PSC&#39\;s responsibilities especially providing accountability to those the agency regulates.</span></span>
LOCATION:Barrow County Park & Rec. Dept. 175 Second Street
UID:e.363.4855
SEQUENCE:3
DTSTAMP:20260423T010055Z
URL:https://barrowcm.365dtm.com/events/details/first-tuesday-membership-meeting-04-02-2013-4855
END:VEVENT

END:VCALENDAR
