BEGIN:VCALENDAR
VERSION:2.0
PRODID:-//ChamberMaster//Event Calendar 2.0//EN
METHOD:PUBLISH
X-PUBLISHED-TTL:P3D
REFRESH-INTERVAL:P3D
CALSCALE:GREGORIAN
BEGIN:VEVENT
DTSTART;VALUE=DATE:20120403
DTEND;VALUE=DATE:20120404
TRANSP:TRANSPARENT
X-MICROSOFT-CDO-ALLDAYEVENT:TRUE
SUMMARY:First Tuesday Membership Meeting
DESCRIPTION:Guest speaker Doug Callaway from the Georgia Transportation Alliance will be speaking about the Transportation SPLOST.
X-ALT-DESC;FMTTYPE=text/html:Guest speaker Doug Callaway from the Georgia Transportation Alliance will be speaking about the Transportation SPLOST.
LOCATION:Barrow County Park and Recreation 175 2nd Street Winder\, GA 30680
UID:e.363.4231
SEQUENCE:3
DTSTAMP:20260423T193420Z
URL:https://barrowcm.365dtm.com/events/details/first-tuesday-membership-meeting-04-03-2012-4231
END:VEVENT

END:VCALENDAR
