BEGIN:VCALENDAR
VERSION:2.0
PRODID:-//ChamberMaster//Event Calendar 2.0//EN
METHOD:PUBLISH
X-PUBLISHED-TTL:P3D
REFRESH-INTERVAL:P3D
CALSCALE:GREGORIAN
BEGIN:VEVENT
DTSTART:20110405T154500Z
DTEND:20110405T170000Z
X-MICROSOFT-CDO-ALLDAYEVENT:FALSE
SUMMARY:First Tuesday Membership Meeting
DESCRIPTION:First Tuesday Membership Meeting\n\n	Speaker:  Steven Dolinger\, head of the Georgia Partnership for Excellence in Education
X-ALT-DESC;FMTTYPE=text/html:<p>\n	First Tuesday Membership Meeting<br />\n	Speaker:&nbsp\; Steven Dolinger\, head of the Georgia Partnership for Excellence in Education<br />\n	&nbsp\;</p>\n
LOCATION:Barrow County Park and Rec. Department 175 Seconds Street.\, Winder
UID:e.363.3706
SEQUENCE:3
DTSTAMP:20260424T121459Z
URL:https://barrowcm.365dtm.com/events/details/first-tuesday-membership-meeting-04-05-2011-3706
END:VEVENT

END:VCALENDAR
