BEGIN:VCALENDAR
VERSION:2.0
PRODID:-//ChamberMaster//Event Calendar 2.0//EN
METHOD:PUBLISH
X-PUBLISHED-TTL:P3D
REFRESH-INTERVAL:P3D
CALSCALE:GREGORIAN
BEGIN:VEVENT
DTSTART:20160405T154500Z
DTEND:20160405T170000Z
X-MICROSOFT-CDO-ALLDAYEVENT:FALSE
SUMMARY:First Tuesday Membership Meeting
DESCRIPTION:First Tuesday Membership meeting\n\nSolvay will sponsor\n\nSpeaker: Don Elrod - Tax Assessor
X-ALT-DESC;FMTTYPE=text/html:First Tuesday Membership meeting<br />\nSolvay will sponsor<br />\nSpeaker: Don Elrod - Tax Assessor
LOCATION:Barrow County Leisure Services 175 2nd Street\, Winder
UID:e.363.5863
SEQUENCE:3
DTSTAMP:20260420T142449Z
URL:https://barrowcm.365dtm.com/events/details/first-tuesday-membership-meeting-04-05-2016-5863
END:VEVENT

END:VCALENDAR
