BEGIN:VCALENDAR
VERSION:2.0
PRODID:-//ChamberMaster//Event Calendar 2.0//EN
METHOD:PUBLISH
X-PUBLISHED-TTL:P3D
REFRESH-INTERVAL:P3D
CALSCALE:GREGORIAN
BEGIN:VEVENT
DTSTART:20150407T154500Z
DTEND:20150407T170000Z
X-MICROSOFT-CDO-ALLDAYEVENT:FALSE
SUMMARY:First Tuesday Membership Meeting
DESCRIPTION:First Tuesday Membership Meeting
X-ALT-DESC;FMTTYPE=text/html:First Tuesday Membership Meeting
LOCATION:Barrow County Park and Rec. Department 175 Second Street
UID:e.363.5763
SEQUENCE:3
DTSTAMP:20260421T092051Z
URL:https://barrowcm.365dtm.com/events/details/first-tuesday-membership-meeting-04-07-2015-5763
END:VEVENT

END:VCALENDAR
