BEGIN:VCALENDAR
VERSION:2.0
PRODID:-//ChamberMaster//Event Calendar 2.0//EN
METHOD:PUBLISH
X-PUBLISHED-TTL:P3D
REFRESH-INTERVAL:P3D
CALSCALE:GREGORIAN
BEGIN:VEVENT
DTSTART:20120501T154500Z
DTEND:20120501T170000Z
X-MICROSOFT-CDO-ALLDAYEVENT:FALSE
SUMMARY:First Tuesday Membership Meeting
DESCRIPTION:First Tuesday Membership Meeting\n\nSponsored by Barrow Regional Medical Center\n\n\n\nSpeaker:Lieutenant Governor Casey Cagle
X-ALT-DESC;FMTTYPE=text/html:First Tuesday Membership Meeting<br />\nSponsored by Barrow Regional Medical Center<br />\n<br />\nSpeaker:Lieutenant Governor Casey Cagle
LOCATION:Barrow County Park and Rec. Department 175 Second Street\, Winder
UID:e.363.4238
SEQUENCE:3
DTSTAMP:20260424T130656Z
URL:https://barrowcm.365dtm.com/events/details/first-tuesday-membership-meeting-05-01-2012-4238
END:VEVENT

END:VCALENDAR
