BEGIN:VCALENDAR
VERSION:2.0
PRODID:-//ChamberMaster//Event Calendar 2.0//EN
METHOD:PUBLISH
X-PUBLISHED-TTL:P3D
REFRESH-INTERVAL:P3D
CALSCALE:GREGORIAN
BEGIN:VEVENT
DTSTART:20110503T154500Z
DTEND:20110503T170000Z
X-MICROSOFT-CDO-ALLDAYEVENT:FALSE
SUMMARY:First Tuesday Membership Meeting
DESCRIPTION:First Tuesday Membership Meeting\n\nSponsored by: Sam's Club\n\n\n\nSpeacker\, Mr. Moore Hallmark\, Southeast Region Executive Director\n\nfor the United States Chamber of Commerce.
X-ALT-DESC;FMTTYPE=text/html:First Tuesday Membership Meeting<br />\nSponsored by: Sam&#39\;s Club<br />\n<br />\nSpeacker\, Mr. Moore Hallmark\, Southeast Region Executive Director<br />\nfor the United States Chamber of Commerce.
LOCATION:Barrow County Park and Rec. Department 175 Second street
UID:e.363.3707
SEQUENCE:3
DTSTAMP:20260424T111333Z
URL:https://barrowcm.365dtm.com/events/details/first-tuesday-membership-meeting-05-03-2011-3707
END:VEVENT

END:VCALENDAR
