BEGIN:VCALENDAR
VERSION:2.0
PRODID:-//ChamberMaster//Event Calendar 2.0//EN
METHOD:PUBLISH
X-PUBLISHED-TTL:P3D
REFRESH-INTERVAL:P3D
CALSCALE:GREGORIAN
BEGIN:VEVENT
DTSTART:20160503T154500Z
DTEND:20160503T170000Z
X-MICROSOFT-CDO-ALLDAYEVENT:FALSE
SUMMARY:First Tuesday Membership Meeting
DESCRIPTION:First Tuesday Membership meeting
X-ALT-DESC;FMTTYPE=text/html:First Tuesday Membership meeting
LOCATION:Barrow County Park and Rec. Dept.
UID:e.363.5866
SEQUENCE:3
DTSTAMP:20260420T125018Z
URL:https://barrowcm.365dtm.com/events/details/first-tuesday-membership-meeting-05-03-2016-5866
END:VEVENT

END:VCALENDAR
