BEGIN:VCALENDAR
VERSION:2.0
PRODID:-//ChamberMaster//Event Calendar 2.0//EN
METHOD:PUBLISH
X-PUBLISHED-TTL:P3D
REFRESH-INTERVAL:P3D
CALSCALE:GREGORIAN
BEGIN:VEVENT
DTSTART:20140506T154500Z
DTEND:20140506T170000Z
X-MICROSOFT-CDO-ALLDAYEVENT:FALSE
SUMMARY:First Tuesday Membership Meeting
DESCRIPTION:Marc Dastous - Sims Academy of Innovation and Technology
X-ALT-DESC;FMTTYPE=text/html:Marc Dastous - Sims Academy of Innovation and Technology
LOCATION:
UID:e.363.5381
SEQUENCE:3
DTSTAMP:20260422T015923Z
URL:https://barrowcm.365dtm.com/events/details/first-tuesday-membership-meeting-05-06-2014-5381
END:VEVENT

END:VCALENDAR
