BEGIN:VCALENDAR
VERSION:2.0
PRODID:-//ChamberMaster//Event Calendar 2.0//EN
METHOD:PUBLISH
X-PUBLISHED-TTL:P3D
REFRESH-INTERVAL:P3D
CALSCALE:GREGORIAN
BEGIN:VEVENT
DTSTART:20150602T154500Z
DTEND:20150602T170000Z
X-MICROSOFT-CDO-ALLDAYEVENT:FALSE
SUMMARY:First Tuesday Membership Meeting
DESCRIPTION:First Tuesday Membership meeting\n\nLeadership Barrow Graduation
X-ALT-DESC;FMTTYPE=text/html:First Tuesday Membership meeting<br />\nLeadership Barrow Graduation
LOCATION:The Georgia Club
UID:e.363.5771
SEQUENCE:3
DTSTAMP:20260421T061931Z
URL:https://barrowcm.365dtm.com/events/details/first-tuesday-membership-meeting-06-02-2015-5771
END:VEVENT

END:VCALENDAR
