BEGIN:VCALENDAR
VERSION:2.0
PRODID:-//ChamberMaster//Event Calendar 2.0//EN
METHOD:PUBLISH
X-PUBLISHED-TTL:P3D
REFRESH-INTERVAL:P3D
CALSCALE:GREGORIAN
BEGIN:VEVENT
DTSTART:20140603T154500Z
DTEND:20140603T170000Z
X-MICROSOFT-CDO-ALLDAYEVENT:FALSE
SUMMARY:First Tuesday Membership Meeting
DESCRIPTION:First Tuesday Membership Meeting\n\nDr. Brenda Fitzgerald - Commission Ga Dept of Public Health
X-ALT-DESC;FMTTYPE=text/html:<p>First Tuesday Membership Meeting</p>\n\n<p>Dr. Brenda Fitzgerald - Commission Ga Dept of Public Health</p>\n
LOCATION:175 Second Street Barrow County Leisure Services Building Barrow County Recreation Dept.
UID:e.363.5382
SEQUENCE:3
DTSTAMP:20260422T003651Z
URL:https://barrowcm.365dtm.com/events/details/first-tuesday-membership-meeting-06-03-2014-5382
END:VEVENT

END:VCALENDAR
