BEGIN:VCALENDAR
VERSION:2.0
PRODID:-//ChamberMaster//Event Calendar 2.0//EN
METHOD:PUBLISH
X-PUBLISHED-TTL:P3D
REFRESH-INTERVAL:P3D
CALSCALE:GREGORIAN
BEGIN:VEVENT
DTSTART:20120605T154500Z
DTEND:20120605T170000Z
X-MICROSOFT-CDO-ALLDAYEVENT:FALSE
SUMMARY:First Tuesday Membership Meeting
DESCRIPTION:Verity Bank Sponsoring First Tuesday Membership Meeting\n\nSpeaker: Dr. Michael Adams\, University of Georgia President
X-ALT-DESC;FMTTYPE=text/html:Verity Bank Sponsoring&nbsp\;First Tuesday Membership Meeting<br />\nSpeaker: Dr. Michael Adams\, University of&nbsp\;Georgia President
LOCATION:Barrow County Park and Rec. Dept.
UID:e.363.4271
SEQUENCE:3
DTSTAMP:20260423T162642Z
URL:https://barrowcm.365dtm.com/events/details/first-tuesday-membership-meeting-06-05-2012-4271
END:VEVENT

END:VCALENDAR
