BEGIN:VCALENDAR
VERSION:2.0
PRODID:-//ChamberMaster//Event Calendar 2.0//EN
METHOD:PUBLISH
X-PUBLISHED-TTL:P3D
REFRESH-INTERVAL:P3D
CALSCALE:GREGORIAN
BEGIN:VEVENT
DTSTART:20110607T154500Z
DTEND:20110607T170000Z
X-MICROSOFT-CDO-ALLDAYEVENT:FALSE
SUMMARY:First Tuesday Membership Meeting
DESCRIPTION:First Tuesday Chamber Legislative Summit\n\n\n\n\n\nState Pre. Terry England and State Sen. Frank Ginn will give their observations on the\n\n2011 Legislative Sesson and how the actions taken by the Legislature will affect\n\nbusiness in Barrow County and the State of Ga.
X-ALT-DESC;FMTTYPE=text/html:First Tuesday Chamber Legislative Summit<br />\n<br />\n<br />\nState Pre. Terry England and State Sen. Frank Ginn will give their observations on the<br />\n2011 Legislative Sesson and how the actions taken by the Legislature will affect<br />\nbusiness in Barrow County and the State of Ga.<span _fck_bookmark="1" style="display: none">&nbsp\;</span><br />\n
LOCATION:Barrow County Park and Rec. Department 175 Second Street\, Winder
UID:e.363.4028
SEQUENCE:3
DTSTAMP:20260424T092852Z
URL:https://barrowcm.365dtm.com/events/details/first-tuesday-membership-meeting-06-07-2011-4028
END:VEVENT

END:VCALENDAR
