BEGIN:VCALENDAR
VERSION:2.0
PRODID:-//ChamberMaster//Event Calendar 2.0//EN
METHOD:PUBLISH
X-PUBLISHED-TTL:P3D
REFRESH-INTERVAL:P3D
CALSCALE:GREGORIAN
BEGIN:VEVENT
DTSTART:20160607T153000Z
DTEND:20160607T170000Z
X-MICROSOFT-CDO-ALLDAYEVENT:FALSE
SUMMARY:First Tuesday Membership Meeting
DESCRIPTION:First Tuesday Membership meeting\n\nGraduation for Leadership Barrow Class of 2016
X-ALT-DESC;FMTTYPE=text/html:First Tuesday Membership meeting<br />\nGraduation for Leadership Barrow Class of 2016
LOCATION:The Georgia Club
UID:e.363.5878
SEQUENCE:3
DTSTAMP:20260420T112707Z
URL:https://barrowcm.365dtm.com/events/details/first-tuesday-membership-meeting-06-07-2016-5878
END:VEVENT

END:VCALENDAR
