BEGIN:VCALENDAR
VERSION:2.0
PRODID:-//ChamberMaster//Event Calendar 2.0//EN
METHOD:PUBLISH
X-PUBLISHED-TTL:P3D
REFRESH-INTERVAL:P3D
CALSCALE:GREGORIAN
BEGIN:VEVENT
DTSTART:20110802T154500Z
DTEND:20110802T170000Z
X-MICROSOFT-CDO-ALLDAYEVENT:FALSE
SUMMARY:First Tuesday Membership Meeting
DESCRIPTION:First Tuesday Membership Meeting\n\n	Sponsored by Verity Bank\n\n	\n\n	Augusts "First Tuesday" speaker will be Barrow County School's Superintendant Dr. Wanda Creel.  Dr. Creel will be speaking on the Barrow County School System's new Charter School designation\, how it will affect the school system\, and what it means for Barrow County.  Dr. Creel will address the many questions about what differences there are between a "normal" school system\, and a Charter School system.
X-ALT-DESC;FMTTYPE=text/html:<p>\n	<span style="font-size: 14px"><span style="color: black"><font face="Times New Roman">First Tuesday Membership Meeting<br />\n	Sponsored by Verity Bank<br />\n	<br />\n	Augusts &quot\;First Tuesday&quot\; speaker will be Barrow County School&#39\;s Superintendant Dr. Wanda Creel.&nbsp\; Dr. Creel will be speaking on the Barrow County School System&#39\;s new Charter School designation\, how it will affect the school system\, and what it means for Barrow County.&nbsp\; Dr. Creel will address the many questions about what differences there&nbsp\;are between a &quot\;normal&quot\; school system\, and a Charter School system.&nbsp\;</font></span></span><span style="color: black"><font size="3"><font face="Times New Roman"><span _fck_bookmark="1" style="display: none">&nbsp\;</span><o:p></o:p></font></font></span></p>\n
LOCATION:Winder Barrow High School Cafeteria
UID:e.363.4030
SEQUENCE:3
DTSTAMP:20260424T064825Z
URL:https://barrowcm.365dtm.com/events/details/first-tuesday-membership-meeting-08-02-2011-4030
END:VEVENT

END:VCALENDAR
