BEGIN:VCALENDAR
VERSION:2.0
PRODID:-//ChamberMaster//Event Calendar 2.0//EN
METHOD:PUBLISH
X-PUBLISHED-TTL:P3D
REFRESH-INTERVAL:P3D
CALSCALE:GREGORIAN
BEGIN:VEVENT
DTSTART:20100803T114500Z
DTEND:20100803T130000Z
X-MICROSOFT-CDO-ALLDAYEVENT:FALSE
SUMMARY:First Tuesday Membership Meeting
DESCRIPTION:First Tuedsay Membership Breakfast Sheriff Jud Smith will be our Speaker Jud Smith is a native of Winder\, GA. He graduated from Winder-Barrow High School in 1994\, and is a graduate of Columbus State University\, with a Bachelor of Science Degree in Criminal Justice\, and a Masters in Public Administration. After two years with the Athens-Clarke County Patrol Office\, Sheriff Smith returned to his roots\, as an officer in the Winder Police Department\, rising to the rank of Sergeant before being running\, and being elected\, as Sheriff of Barrow County. Sheriff Smith is active in the Barrow County community as the Chief Volunteer for the Boys and Girls Club of Barrow County\, holding the title of President. He is also on the Board of Directors of Peace Place\, is President of the Winder Noon Lions Club\, is a member of the Georgia Sheriff's Association\, and is currently a member of the Nominating Committee. Sheriff Smith has been recognized as the Officer of the Year by the Winder Noon Lions Club\, received the Boys and Girls Club Distinguished Service Award\, and was selected as the Officer of the Year by the Winder Kiwanis Club.
X-ALT-DESC;FMTTYPE=text/html:<div>First Tuedsay Membership Breakfast Sheriff Jud Smith will be our Speaker</div><div>&nbsp\;</div><div><div style="margin: 0in 0in 0pt">Jud Smith is a native of Winder\, GA.&nbsp\;He graduated from Winder-Barrow High School in 1994\, and is a graduate of Columbus State University\, with a Bachelor of&nbsp\;Science Degree in Criminal Justice\, and a Masters in Public Administration.</div><div style="margin: 0in 0in 0pt">&nbsp\;</div><div style="margin: 0in 0in 0pt">After two years with the Athens-Clarke County Patrol Office\, Sheriff Smith returned to his roots\, as an officer in the Winder Police Department\, rising to the rank of Sergeant before being running\, and being elected\, as Sheriff of Barrow County.</div><div style="margin: 0in 0in 0pt">&nbsp\;</div><div style="margin: 0in 0in 0pt">Sheriff Smith is active in the Barrow County community as the Chief Volunteer for the Boys and Girls Club of Barrow County\, holding the title of President.&nbsp\;He is also on the Board of Directors of Peace Place\, is President of the Winder Noon Lions Club\, is a member of the Georgia Sheriff&rsquo\;s Association\, and is currently a member of the Nominating Committee.</div><div style="margin: 0in 0in 0pt">&nbsp\;</div><div style="margin: 0in 0in 0pt">Sheriff Smith has been recognized as the Officer of the Year by the Winder Noon Lions Club\, received the Boys and Girls Club Distinguished Service Award\, and was selected as the Officer of the Year by the Winder Kiwanis Club.</div></div>
LOCATION:Barrow Park and Rec Department 175 Second Street
UID:e.363.3552
SEQUENCE:3
DTSTAMP:20260425T001411Z
URL:https://barrowcm.365dtm.com/events/details/first-tuesday-membership-meeting-08-03-2010-3552
END:VEVENT

END:VCALENDAR
