BEGIN:VCALENDAR
VERSION:2.0
PRODID:-//ChamberMaster//Event Calendar 2.0//EN
METHOD:PUBLISH
X-PUBLISHED-TTL:P3D
REFRESH-INTERVAL:P3D
CALSCALE:GREGORIAN
BEGIN:VEVENT
DTSTART;VALUE=DATE:20150804
DTEND;VALUE=DATE:20150805
TRANSP:TRANSPARENT
X-MICROSOFT-CDO-ALLDAYEVENT:TRUE
SUMMARY:First Tuesday Membership Meeting
DESCRIPTION:First Tuesday Membership Meeting
X-ALT-DESC;FMTTYPE=text/html:First Tuesday Membership Meeting<br />\n&nbsp\;
LOCATION:Barrow County Park and Rec.
UID:e.363.5795
SEQUENCE:3
DTSTAMP:20260421T023817Z
URL:https://barrowcm.365dtm.com/events/details/first-tuesday-membership-meeting-08-04-2015-5795
END:VEVENT

END:VCALENDAR
