BEGIN:VCALENDAR
VERSION:2.0
PRODID:-//ChamberMaster//Event Calendar 2.0//EN
METHOD:PUBLISH
X-PUBLISHED-TTL:P3D
REFRESH-INTERVAL:P3D
CALSCALE:GREGORIAN
BEGIN:VEVENT
DTSTART:20130806T154500Z
DTEND:20130806T170000Z
X-MICROSOFT-CDO-ALLDAYEVENT:FALSE
SUMMARY:First Tuesday Membership Meeting
DESCRIPTION:First Tuesday Membership Meeting\n\nSponsored by First American Bank and Trust\n\nSpeaker : Chuck Dowdle a prominent figure in Georgia Sports
X-ALT-DESC;FMTTYPE=text/html:First Tuesday Membership Meeting<br />\nSponsored by First American Bank and Trust<br />\nSpeaker : Chuck Dowdle a prominent figure in Georgia Sports
LOCATION:Barrow County Park and Rec. Dept.
UID:e.363.5021
SEQUENCE:3
DTSTAMP:20260422T191726Z
URL:https://barrowcm.365dtm.com/events/details/first-tuesday-membership-meeting-08-06-2013-5021
END:VEVENT

END:VCALENDAR
