BEGIN:VCALENDAR
VERSION:2.0
PRODID:-//ChamberMaster//Event Calendar 2.0//EN
METHOD:PUBLISH
X-PUBLISHED-TTL:P3D
REFRESH-INTERVAL:P3D
CALSCALE:GREGORIAN
BEGIN:VEVENT
DTSTART:20131001T154500Z
DTEND:20131001T170000Z
X-MICROSOFT-CDO-ALLDAYEVENT:FALSE
SUMMARY:First Tuesday Membership meeting
DESCRIPTION:First Tuesday Membership Meeting\n\nSponsored by: Lanier Technical College\n\nSpeaker: Ron Jackson is the commissioner of the Technical College System of Georgia
X-ALT-DESC;FMTTYPE=text/html:First Tuesday Membership Meeting<br />\nSponsored by: Lanier Technical College<br />\nSpeaker: <span style="font-family:calibri\,sans-serif\;"><span style="font-size:11.0pt\;">Ron Jackson is the commissioner of the Technical College System of Georgia </span></span>
LOCATION:Barrow County Park and Rec. Department
UID:e.363.5143
SEQUENCE:3
DTSTAMP:20260422T161335Z
URL:https://barrowcm.365dtm.com/events/details/first-tuesday-membership-meeting-10-01-2013-5143
END:VEVENT

END:VCALENDAR
