BEGIN:VCALENDAR
VERSION:2.0
PRODID:-//ChamberMaster//Event Calendar 2.0//EN
METHOD:PUBLISH
X-PUBLISHED-TTL:P3D
REFRESH-INTERVAL:P3D
CALSCALE:GREGORIAN
BEGIN:VEVENT
DTSTART:20101005T114500Z
DTEND:20101005T130000Z
X-MICROSOFT-CDO-ALLDAYEVENT:FALSE
SUMMARY:First Tuesday Membership Meeting
DESCRIPTION:First Tuesday Membership Meeting\n\nSponsored by Windstream\n\nDennis J. Farrell - Director of Business Solutions - Central Georgia - Windstream Communications. Will be the Speaker
X-ALT-DESC;FMTTYPE=text/html:First Tuesday Membership Meeting<br />\nSponsored by Windstream<br />\n<span style="font-size: 10pt"><span style="color: blue"><span style="font-family: arial\, sans-serif">Dennis J. Farrell - Director of Business Solutions - Central Georgia - Windstream Communications.&nbsp\;Will be the Speaker</span></span></span><br />\n
LOCATION:Barrow County Park and Rec. Department 175 Second Street\, Winder
UID:e.363.3589
SEQUENCE:3
DTSTAMP:20260424T213220Z
URL:https://barrowcm.365dtm.com/events/details/first-tuesday-membership-meeting-10-05-2010-3589
END:VEVENT

END:VCALENDAR
