BEGIN:VCALENDAR
VERSION:2.0
PRODID:-//ChamberMaster//Event Calendar 2.0//EN
METHOD:PUBLISH
X-PUBLISHED-TTL:P3D
REFRESH-INTERVAL:P3D
CALSCALE:GREGORIAN
BEGIN:VEVENT
DTSTART:20151006T154500Z
DTEND:20151006T170000Z
X-MICROSOFT-CDO-ALLDAYEVENT:FALSE
SUMMARY:First Tuesday Membership Meeting
DESCRIPTION:
X-ALT-DESC;FMTTYPE=text/html:
LOCATION:
UID:e.363.5801
SEQUENCE:3
DTSTAMP:20260420T232756Z
URL:https://barrowcm.365dtm.com/events/details/first-tuesday-membership-meeting-10-06-2015-5801
END:VEVENT

END:VCALENDAR
