BEGIN:VCALENDAR
VERSION:2.0
PRODID:-//ChamberMaster//Event Calendar 2.0//EN
METHOD:PUBLISH
X-PUBLISHED-TTL:P3D
REFRESH-INTERVAL:P3D
CALSCALE:GREGORIAN
BEGIN:VEVENT
DTSTART:20101102T154500Z
DTEND:20101102T170000Z
X-MICROSOFT-CDO-ALLDAYEVENT:FALSE
SUMMARY:First Tuesday Membership Meeting
DESCRIPTION:Sponsor: Community Bank and Trust\n\nGuest Speaker: Pete Black
X-ALT-DESC;FMTTYPE=text/html:Sponsor: Community Bank and Trust<br />\nGuest Speaker: Pete Black
LOCATION:Constance Manor 70 Church Street\, Winder
UID:e.363.3618
SEQUENCE:3
DTSTAMP:20260424T195636Z
URL:https://barrowcm.365dtm.com/events/details/first-tuesday-membership-meeting-11-02-2010-3618
END:VEVENT

END:VCALENDAR
