BEGIN:VCALENDAR
VERSION:2.0
PRODID:-//ChamberMaster//Event Calendar 2.0//EN
METHOD:PUBLISH
X-PUBLISHED-TTL:P3D
REFRESH-INTERVAL:P3D
CALSCALE:GREGORIAN
BEGIN:VEVENT
DTSTART:20131105T164500Z
DTEND:20131105T180000Z
X-MICROSOFT-CDO-ALLDAYEVENT:FALSE
SUMMARY:First Tuesday Membership Meeting
DESCRIPTION:First Tuesday Membership Meeting\n\nSponsored by:  CB & T
X-ALT-DESC;FMTTYPE=text/html:First Tuesday Membership Meeting<br />\nSponsored by:&nbsp\; CB &amp\; T
LOCATION:Barrow County Rec. Dept. 175 Second St. \, WInder
UID:e.363.5167
SEQUENCE:3
DTSTAMP:20260422T112022Z
URL:https://barrowcm.365dtm.com/events/details/first-tuesday-membership-meeting-11-05-2013-5167
END:VEVENT

END:VCALENDAR
