BEGIN:VCALENDAR
VERSION:2.0
PRODID:-//ChamberMaster//Event Calendar 2.0//EN
METHOD:PUBLISH
X-PUBLISHED-TTL:P3D
REFRESH-INTERVAL:P3D
CALSCALE:GREGORIAN
BEGIN:VEVENT
DTSTART:20121106T164500Z
DTEND:20121106T180000Z
X-MICROSOFT-CDO-ALLDAYEVENT:FALSE
SUMMARY:First Tuesday Membership Meeting
DESCRIPTION:First Tuesday Membership Meeting\n\n	NEW location:\n\n	Park Ave. Professional Office Bldg
X-ALT-DESC;FMTTYPE=text/html:<p>\n	First Tuesday Membership Meeting<br />\n	NEW location:<br />\n	Park Ave. Professional Office Bldg</p>\n
LOCATION:Park Ave. Professional Office Bldg. 138 Park Ave.\, Winder\, GA
UID:e.363.4513
SEQUENCE:3
DTSTAMP:20260423T085149Z
URL:https://barrowcm.365dtm.com/events/details/first-tuesday-membership-meeting-11-06-2012-4513
END:VEVENT

END:VCALENDAR
