BEGIN:VCALENDAR
VERSION:2.0
PRODID:-//ChamberMaster//Event Calendar 2.0//EN
METHOD:PUBLISH
X-PUBLISHED-TTL:P3D
REFRESH-INTERVAL:P3D
CALSCALE:GREGORIAN
BEGIN:VEVENT
DTSTART:20151201T164500Z
DTEND:20151201T180000Z
X-MICROSOFT-CDO-ALLDAYEVENT:FALSE
SUMMARY:First Tuesday Membership Meeting
DESCRIPTION:First Tuesday Membership Meeting\n\nGuest speaker: Stphen Kuzniak\, who works at the University of Georgia's Terry College of Business Seling Center for Economic Growth\, and will present the economic outlook for the State of Georgia for 2016
X-ALT-DESC;FMTTYPE=text/html:First Tuesday Membership Meeting<br />\nGuest speaker: Stphen Kuzniak\, who works at the University of Georgia&#39\;s Terry College of Business Seling Center for Economic Growth\, and will present the economic outlook for the State of Georgia for 2016
LOCATION:Barrow County Leisure Services
UID:e.363.5834
SEQUENCE:3
DTSTAMP:20260420T203501Z
URL:https://barrowcm.365dtm.com/events/details/first-tuesday-membership-meeting-12-01-2015-5834
END:VEVENT

END:VCALENDAR
