BEGIN:VCALENDAR
VERSION:2.0
PRODID:-//ChamberMaster//Event Calendar 2.0//EN
METHOD:PUBLISH
X-PUBLISHED-TTL:P3D
REFRESH-INTERVAL:P3D
CALSCALE:GREGORIAN
BEGIN:VEVENT
DTSTART:20161004T153000Z
DTEND:20161004T170000Z
X-MICROSOFT-CDO-ALLDAYEVENT:FALSE
SUMMARY:First Tuesday Membership meeting
DESCRIPTION:First Tuesday Membership Meeting\n\nSponsored by Bank of the Ozarks\n\nGuest Speaker: Ben Hames\, Director of Workforce Development
X-ALT-DESC;FMTTYPE=text/html:First Tuesday Membership Meeting<br />\nSponsored by Bank of the Ozarks<br />\nGuest Speaker: Ben Hames\, Director of Workforce Development
LOCATION:Barrow County Leisure Services
UID:e.363.6892
SEQUENCE:3
DTSTAMP:20260420T045213Z
URL:https://barrowcm.365dtm.com/events/details/first-tuesday-membership-meeting-6892
END:VEVENT

END:VCALENDAR
