BEGIN:VCALENDAR
VERSION:2.0
PRODID:-//ChamberMaster//Event Calendar 2.0//EN
METHOD:PUBLISH
X-PUBLISHED-TTL:P3D
REFRESH-INTERVAL:P3D
CALSCALE:GREGORIAN
BEGIN:VEVENT
DTSTART:20150113T164500Z
DTEND:20150113T180000Z
X-MICROSOFT-CDO-ALLDAYEVENT:FALSE
SUMMARY:First Tuesday Membership Meeting - Non Profits
DESCRIPTION:Non Profits exhibit hall before the meeting\n\nAt River Church
X-ALT-DESC;FMTTYPE=text/html:Non Profits exhibit hall before the meeting<br />\nAt River Church
LOCATION:
UID:e.363.5475
SEQUENCE:3
DTSTAMP:20260421T135655Z
URL:https://barrowcm.365dtm.com/events/details/first-tuesday-membership-meeting-non-profits-01-13-2015-5475
END:VEVENT

END:VCALENDAR
