BEGIN:VCALENDAR
VERSION:2.0
PRODID:-//ChamberMaster//Event Calendar 2.0//EN
METHOD:PUBLISH
X-PUBLISHED-TTL:P3D
REFRESH-INTERVAL:P3D
CALSCALE:GREGORIAN
BEGIN:VEVENT
DTSTART:20170502T154500Z
DTEND:20170502T170000Z
X-MICROSOFT-CDO-ALLDAYEVENT:FALSE
SUMMARY:First Tuesday Membershp meeting
DESCRIPTION:First Tuesday Membership Meeting\n\nSpeaker Jud Smith
X-ALT-DESC;FMTTYPE=text/html:First Tuesday Membership Meeting<br />\nSpeaker Jud Smith
LOCATION:Leisure Services Bldg.
UID:e.363.6936
SEQUENCE:3
DTSTAMP:20260419T183244Z
URL:https://barrowcm.365dtm.com/events/details/first-tuesday-membershp-meeting-6936
END:VEVENT

END:VCALENDAR
