BEGIN:VCALENDAR
VERSION:2.0
PRODID:-//ChamberMaster//Event Calendar 2.0//EN
METHOD:PUBLISH
X-PUBLISHED-TTL:P3D
REFRESH-INTERVAL:P3D
CALSCALE:GREGORIAN
BEGIN:VEVENT
DTSTART:20120428T140000Z
DTEND:20120428T200000Z
X-MICROSOFT-CDO-ALLDAYEVENT:FALSE
SUMMARY:"For the Love of Dogs"
DESCRIPTION:For the Love of Dogs\n\nA festival in honor of Man's best friend!\n\nActivities will include agility\, contests\, tracking\, obedience\, cart pulling\n\nherding and much more!
X-ALT-DESC;FMTTYPE=text/html:For the&nbsp\;Love of Dogs<br />\nA festival in&nbsp\;honor of Man&#39\;s best friend!<br />\nActivities will include agility\, contests\, tracking\, obedience\, cart pulling<br />\nherding and much&nbsp\;more!
LOCATION:Downtown Auburn
UID:e.363.4242
SEQUENCE:3
DTSTAMP:20260423T193948Z
URL:https://barrowcm.365dtm.com/events/details/for-the-love-of-dogs-04-28-2012-4242
END:VEVENT

END:VCALENDAR
