BEGIN:VCALENDAR
VERSION:2.0
PRODID:-//ChamberMaster//Event Calendar 2.0//EN
METHOD:PUBLISH
X-PUBLISHED-TTL:P3D
REFRESH-INTERVAL:P3D
CALSCALE:GREGORIAN
BEGIN:VEVENT
DTSTART:20120613T223000Z
DTEND:20120614T000000Z
X-MICROSOFT-CDO-ALLDAYEVENT:FALSE
SUMMARY:Forum for Local Races
DESCRIPTION:The Barrow County Chamber of Commerce will host "An Evening with the Candidates"\, at the Colleen O. Williams Theater on June 13\, 2012\, beginning at 6:30pm.  Republican candidates for the County Commission races for District 1\, District 2\, and District 3 have been invited to appear\, answering questions from the Chamber's Governmental Affairs Committee.  Also\, Republican candidates for Barrow County Board of Education\, District 8 have been invited\, along with candidates for Chief Magistrate of Barrow County.\n\n	 \n\n	The public is invited to attend\, and there is no charge for entry.\n\n	Click here to edit...
X-ALT-DESC;FMTTYPE=text/html:<div style="color: gray">\n	&nbsp\;<br />\n	<span style="font-size: medium"><span style="font-family: times new roman">The Barrow County Chamber of Commerce will host &ldquo\;An Evening with the Candidates&rdquo\;\, at the Colleen O. Williams Theater on June 13\, 2012\, beginning at 6:30pm.&nbsp\; Republican candidates for the County Commission races for District 1\, District 2\, and District 3 have been invited to appear\, answering questions from the Chamber&rsquo\;s Governmental Affairs Committee.&nbsp\; Also\, Republican candidates for Barrow County Board of Education\, District 8 have been invited\, along with candidates for Chief Magistrate of Barrow County.</span></span><br />\n	&nbsp\;<br />\n	<span style="font-size: medium"><span style="font-family: times new roman">The public is invited to attend\, and there is no charge for entry.</span></span><br />\n	Click here to edit...</div>\n
LOCATION:Colleen O. Williams Theater
UID:e.363.4269
SEQUENCE:3
DTSTAMP:20260423T162455Z
URL:https://barrowcm.365dtm.com/events/details/forum-for-local-races-06-13-2012-4269
END:VEVENT

END:VCALENDAR
