BEGIN:VCALENDAR
VERSION:2.0
PRODID:-//ChamberMaster//Event Calendar 2.0//EN
METHOD:PUBLISH
X-PUBLISHED-TTL:P3D
REFRESH-INTERVAL:P3D
CALSCALE:GREGORIAN
BEGIN:VEVENT
DTSTART:20121026T110000Z
DTEND:20121026T180000Z
X-MICROSOFT-CDO-ALLDAYEVENT:FALSE
SUMMARY:FREE Community Health Fair
DESCRIPTION:Get your pick of free health screenings at the Annual BRMC Community Health Fair Friday\, October 26\, 7:00 am - 2:00 pm. There will be health screenings and tests with Barrow Regional Medical Center professionals. Plus free refreshments\, important information from local healthcare specialists & organizations\, giveaways and more!       \n\n	\n\n	For more information\, click here: BRMC Health Fair Ad.pdf\n\n	\n\n	Those interested in participating in the Health Fair\, may complete this form: BRMC Health Fair RSVP Form.pdf
X-ALT-DESC;FMTTYPE=text/html:<div class="literalContent">\n	Get your pick of free health screenings at the Annual BRMC Community Health Fair Friday\, October 26\, 7:00 am - 2:00 pm. There will be health screenings and tests with Barrow Regional Medical Center professionals. Plus free refreshments\, important information from local healthcare specialists &amp\; organizations\, giveaways and more!&nbsp\;&nbsp\;&nbsp\;&nbsp\;&nbsp\;&nbsp\;&nbsp\;<br />\n	<br />\n	For more information\, click here: <a href="http://www.barrowregional.com/Resources/33/FileRepository/BRMC%20Health%20Fair%20Ad.pdf" target="_blank">BRMC Health Fair Ad.pdf</a><br />\n	<br />\n	Those interested in participating in the Health Fair\, may complete this form: <a href="http://www.barrowregional.com/Resources/33/FileRepository/BRMC%20Health%20Fair%20RSVP%20Form.pdf" target="_blank">BRMC Health Fair RSVP Form.pdf</a></div>\n
LOCATION:Barrow Regional Medical Center
UID:e.363.4569
SEQUENCE:3
DTSTAMP:20260423T102229Z
URL:https://barrowcm.365dtm.com/events/details/free-community-health-fair-10-26-2012-4569
END:VEVENT

END:VCALENDAR
