BEGIN:VCALENDAR
VERSION:2.0
PRODID:-//ChamberMaster//Event Calendar 2.0//EN
METHOD:PUBLISH
X-PUBLISHED-TTL:P3D
REFRESH-INTERVAL:P3D
CALSCALE:GREGORIAN
BEGIN:VEVENT
DTSTART:20150810T220000Z
DTEND:20150812T020000Z
X-MICROSOFT-CDO-ALLDAYEVENT:FALSE
SUMMARY:Free course for prospective homebuyers in Barrow
DESCRIPTION:Free class for homebuyers -- HomeChoice ? is for anyone interested in buying a home. This eight-hour course is designed by Alaska Housing Finance Corporation (AHFC) to give Alaskans the knowledge necessary to become an informed homebuyer. All necessary materials will be provided and when the class is completed\, attendees will receive a certificate that can save them money on AHFC closing costs. Are you a real estate professional seeking professional development credits? Many of our HomeChoice classes offer eight CEU's!
X-ALT-DESC;FMTTYPE=text/html:Free class for homebuyers -- HomeChoice ? is for anyone interested in buying a home. This eight-hour course is designed by Alaska Housing Finance Corporation (AHFC) to give Alaskans the knowledge necessary to become an informed homebuyer. All necessary materials will be provided and when the class is completed\, attendees will receive a certificate that can save them money on AHFC closing costs. Are you a real estate professional seeking professional development credits? Many of our HomeChoice classes offer eight CEU&#39\;s!
LOCATION:Main Borough Building Assembly Room
UID:e.363.5802
SEQUENCE:3
DTSTAMP:20260421T024050Z
URL:https://barrowcm.365dtm.com/events/details/free-course-for-prospective-homebuyers-in-barrow-08-10-2015-5802
END:VEVENT

END:VCALENDAR
