BEGIN:VCALENDAR
VERSION:2.0
PRODID:-//ChamberMaster//Event Calendar 2.0//EN
METHOD:PUBLISH
X-PUBLISHED-TTL:P3D
REFRESH-INTERVAL:P3D
CALSCALE:GREGORIAN
BEGIN:VEVENT
DTSTART:20120821T180000Z
DTEND:20120821T190000Z
X-MICROSOFT-CDO-ALLDAYEVENT:FALSE
SUMMARY:Free E-Verify and I-9 Georgia Department of Labor Webinars by DHS
DESCRIPTION:Are you ready to learn more about E-Verify? Do you have questions about Form I-9? The U.S. Department of Homeland Security offers free live webinars on E-Verify and Form I-9. Go to http://go.usa.gov/m3r to attend. Pre-registration is not required.\n\n	 \n\n	Learn more about the E-Verify program at www.dhs.gov/E-Verify \n\n	Learn more about Form I-9 at http://www.uscis.gov/I-9Central\nSee more webinar dates at http://go.usa.gov/Za0
X-ALT-DESC;FMTTYPE=text/html:<p class="MsoNormal" style="margin: 0in 0in 10pt">\n	<font size="3"><font color="#000000"><font face="Calibri">Are you ready to learn more about E-Verify? Do you have questions about Form I-9? The U.S. Department of Homeland Security offers free live webinars on E-Verify and Form I-9. Go to http://go.usa.gov/m3r to attend. Pre-registration is not required.<o:p></o:p></font></font></font></p>\n<p class="MsoNormal" style="margin: 0in 0in 10pt">\n	<o:p><font color="#000000" face="Calibri" size="3">&nbsp\;</font></o:p></p>\n<p class="MsoNormal" style="margin: 0in 0in 10pt">\n	<font size="3"><font color="#000000"><font face="Calibri">Learn more about the E-Verify program at www.dhs.gov/E-Verify <o:p></o:p></font></font></font></p>\n<p class="MsoNormal" style="margin: 0in 0in 10pt">\n	<font color="#000000" face="Calibri" size="3">Learn more about Form I-9 at </font><a href="http://www.uscis.gov/I-9Central"><font color="#800080" face="Calibri" size="3">http://www.uscis.gov/I-9Central</font></a></p>\n<span style="line-height: 115%\; font-family: 'calibri'\, 'sans-serif'\; font-size: 11pt\; mso-ascii-theme-font: minor-latin\; mso-fareast-font-family: calibri\; mso-fareast-theme-font: minor-latin\; mso-hansi-theme-font: minor-latin\; mso-bidi-font-family: 'times new roman'\; mso-bidi-theme-font: minor-bidi\; mso-ansi-language: en-us\; mso-fareast-language: en-us\; mso-bidi-language: ar-sa"><font color="#000000">See more webinar dates at </font><a href="http://go.usa.gov/Za0"><i style="mso-bidi-font-style: normal"><span style="color: red\; mso-bidi-font-family: calibri\; mso-bidi-theme-font: minor-latin">http://go.usa.gov/Za0</span></i></a></span>
LOCATION:Your Computer
UID:e.363.4527
SEQUENCE:3
DTSTAMP:20260423T132847Z
URL:https://barrowcm.365dtm.com/events/details/free-e-verify-and-i-9-georgia-department-of-labor-webinars-by-dhs-08-21-2012-4527
END:VEVENT

END:VCALENDAR
